BEGIN:VCALENDAR
VERSION:2.0
PRODID:-//Intand Corporation//Tandem//EN
METHOD:PUBLISH
BEGIN:VEVENT
DTSTAMP:20260423T055502Z
DTSTART:20260629T170000Z
DTEND:20260629T200000Z
TRANSP:TRANSPARENT
PRIORITY:0
SUMMARY:Summer Camp: Cross Country
LOCATION:Asheville Christian Academy > ACA Track\, Asheville Christian Aca
 demy > E102/3 - Gym/Court 3
DESCRIPTION:Groups:\nSummer Events - Camps\n\nSchools:\nAsheville Christia
 n Academy\n\nLocations:\nAsheville Christian Academy > ACA Track\nAshevill
 e Christian Academy > E102/3 - Gym/Court 3\n\n
URL;VALUE=URI:https://ashevillechristian.tandem.co/index.php?type=view&act
 ion=event&id=52708
CREATED:20260317T162638Z
LAST-MODIFIED:20260317T162638Z
UID:event-52708-ashevillechristian@intand.com
END:VEVENT
END:VCALENDAR
