BEGIN:VCALENDAR
VERSION:2.0
PRODID:-//Intand Corporation//Tandem//EN
METHOD:PUBLISH
BEGIN:VEVENT
DTSTAMP:20260423T105542Z
DTSTART:20260416T190000Z
DTEND:20260416T203000Z
TRANSP:TRANSPARENT
PRIORITY:0
SUMMARY:MS Golf Practice
LOCATION:Asheville Christian Academy > ACA Golf Facility
DESCRIPTION:Schools:\nAsheville Christian Academy\n\nLocation:\nAsheville 
 Christian Academy > ACA Golf Facility\n\n
URL;VALUE=URI:https://ashevillechristian.tandem.co/index.php?type=view&act
 ion=event&id=53188
CREATED:20260413T175034Z
LAST-MODIFIED:20260413T175034Z
UID:event-53188-ashevillechristian@intand.com
END:VEVENT
END:VCALENDAR
